BEGIN:VCALENDAR
VERSION:2.0
PRODID:-//Fischereigemeinschaft Vöhringen e.V. - ECPv6.15.20//NONSGML v1.0//EN
CALSCALE:GREGORIAN
METHOD:PUBLISH
X-WR-CALNAME:Fischereigemeinschaft Vöhringen e.V.
X-ORIGINAL-URL:https://www.fischereigemeinschaft-voehringen.de
X-WR-CALDESC:Veranstaltungen für Fischereigemeinschaft Vöhringen e.V.
REFRESH-INTERVAL;VALUE=DURATION:PT1H
X-Robots-Tag:noindex
X-PUBLISHED-TTL:PT1H
BEGIN:VTIMEZONE
TZID:Europe/Paris
BEGIN:DAYLIGHT
TZOFFSETFROM:+0100
TZOFFSETTO:+0200
TZNAME:CEST
DTSTART:20240331T010000
END:DAYLIGHT
BEGIN:STANDARD
TZOFFSETFROM:+0200
TZOFFSETTO:+0100
TZNAME:CET
DTSTART:20241027T010000
END:STANDARD
BEGIN:DAYLIGHT
TZOFFSETFROM:+0100
TZOFFSETTO:+0200
TZNAME:CEST
DTSTART:20250330T010000
END:DAYLIGHT
BEGIN:STANDARD
TZOFFSETFROM:+0200
TZOFFSETTO:+0100
TZNAME:CET
DTSTART:20251026T010000
END:STANDARD
BEGIN:DAYLIGHT
TZOFFSETFROM:+0100
TZOFFSETTO:+0200
TZNAME:CEST
DTSTART:20260329T010000
END:DAYLIGHT
BEGIN:STANDARD
TZOFFSETFROM:+0200
TZOFFSETTO:+0100
TZNAME:CET
DTSTART:20261025T010000
END:STANDARD
END:VTIMEZONE
BEGIN:VEVENT
DTSTART;TZID=Europe/Paris:20250711T080000
DTEND;TZID=Europe/Paris:20250713T170000
DTSTAMP:20260422T042758
CREATED:20250122T135215Z
LAST-MODIFIED:20250627T111639Z
UID:844-1752220800-1752426000@www.fischereigemeinschaft-voehringen.de
SUMMARY:Stadtfest Vöhringen
DESCRIPTION:Bitte um Anmeldung für den Arbeitseinsatz: \nStadtfest Vöhringen 2025
URL:https://www.fischereigemeinschaft-voehringen.de/event/stadtfest-voehringen
CATEGORIES:Veranstaltung Stadt und Verband
END:VEVENT
BEGIN:VEVENT
DTSTART;TZID=Europe/Paris:20250711T080000
DTEND;TZID=Europe/Paris:20250713T170000
DTSTAMP:20260422T042758
CREATED:20250122T135958Z
LAST-MODIFIED:20250122T135958Z
UID:857-1752220800-1752426000@www.fischereigemeinschaft-voehringen.de
SUMMARY:Tag der Schwäbischen Fischerjugend 2025
DESCRIPTION:
URL:https://www.fischereigemeinschaft-voehringen.de/event/tag-der-schwaebischen-fischerjugend-2025
CATEGORIES:Veranstaltung Stadt und Verband
END:VEVENT
END:VCALENDAR