BEGIN:VCALENDAR
VERSION:2.0
PRODID:-//Fischereigemeinschaft Vöhringen e.V. - ECPv6.15.20//NONSGML v1.0//EN
CALSCALE:GREGORIAN
METHOD:PUBLISH
X-WR-CALNAME:Fischereigemeinschaft Vöhringen e.V.
X-ORIGINAL-URL:https://www.fischereigemeinschaft-voehringen.de
X-WR-CALDESC:Veranstaltungen für Fischereigemeinschaft Vöhringen e.V.
REFRESH-INTERVAL;VALUE=DURATION:PT1H
X-Robots-Tag:noindex
X-PUBLISHED-TTL:PT1H
BEGIN:VTIMEZONE
TZID:Europe/Paris
BEGIN:DAYLIGHT
TZOFFSETFROM:+0100
TZOFFSETTO:+0200
TZNAME:CEST
DTSTART:20240331T010000
END:DAYLIGHT
BEGIN:STANDARD
TZOFFSETFROM:+0200
TZOFFSETTO:+0100
TZNAME:CET
DTSTART:20241027T010000
END:STANDARD
BEGIN:DAYLIGHT
TZOFFSETFROM:+0100
TZOFFSETTO:+0200
TZNAME:CEST
DTSTART:20250330T010000
END:DAYLIGHT
BEGIN:STANDARD
TZOFFSETFROM:+0200
TZOFFSETTO:+0100
TZNAME:CET
DTSTART:20251026T010000
END:STANDARD
BEGIN:DAYLIGHT
TZOFFSETFROM:+0100
TZOFFSETTO:+0200
TZNAME:CEST
DTSTART:20260329T010000
END:DAYLIGHT
BEGIN:STANDARD
TZOFFSETFROM:+0200
TZOFFSETTO:+0100
TZNAME:CET
DTSTART:20261025T010000
END:STANDARD
END:VTIMEZONE
BEGIN:VEVENT
DTSTART;TZID=Europe/Paris:20250201T080000
DTEND;TZID=Europe/Paris:20250201T120000
DTSTAMP:20260422T114856
CREATED:20250122T135347Z
LAST-MODIFIED:20250122T135347Z
UID:849-1738396800-1738411200@www.fischereigemeinschaft-voehringen.de
SUMMARY:Gewässerpflege Kellerbau Nordseite
DESCRIPTION:
URL:https://www.fischereigemeinschaft-voehringen.de/event/gewaesserpflege-kellerbau-nordseite-2
CATEGORIES:Gewässerpflege
END:VEVENT
BEGIN:VEVENT
DTSTART;TZID=Europe/Paris:20250201T190000
DTEND;TZID=Europe/Paris:20250201T220000
DTSTAMP:20260422T114856
CREATED:20250104T155122Z
LAST-MODIFIED:20250122T135600Z
UID:832-1738436400-1738447200@www.fischereigemeinschaft-voehringen.de
SUMMARY:Jahreshauptversammlung der FG Vöhringen e.V.
DESCRIPTION:
URL:https://www.fischereigemeinschaft-voehringen.de/event/jahreshauptversammlung-der-fg-voehringen-e-v
LOCATION:Gasthaus Zum Brückle\, Illerzell\, Zum Sportplatz 21\, Zum Sportplatz 21\, Illerzell\, Bayern\, 89269\, Deutschland
CATEGORIES:Verein
END:VEVENT
BEGIN:VEVENT
DTSTART;TZID=Europe/Paris:20250208T080000
DTEND;TZID=Europe/Paris:20250208T170000
DTSTAMP:20260422T114856
CREATED:20250122T135024Z
LAST-MODIFIED:20250209T184520Z
UID:836-1739001600-1739034000@www.fischereigemeinschaft-voehringen.de
SUMMARY:Holz aufarbeiten
DESCRIPTION:Ansprechpartner und Anmeldungen an:\nKlaus Giebelhaus 0176 45269832
URL:https://www.fischereigemeinschaft-voehringen.de/event/holz-aufarbeiten-2
LOCATION:Fischerheim in Vöhringen\, Illerstr. 28a\, Vöhringen\, 89269\, Deutschland
CATEGORIES:Arbeitseinsatz
END:VEVENT
BEGIN:VEVENT
DTSTART;TZID=Europe/Paris:20250215T080000
DTEND;TZID=Europe/Paris:20250215T170000
DTSTAMP:20260422T114856
CREATED:20250122T135046Z
LAST-MODIFIED:20250209T184248Z
UID:838-1739606400-1739638800@www.fischereigemeinschaft-voehringen.de
SUMMARY:Gewässerpflege Grüne Lunge Ostseite
DESCRIPTION:Ansprechpartner und Anmeldungen an:\nJürgen Schöllhorn 0160 96633913
URL:https://www.fischereigemeinschaft-voehringen.de/event/gewaesserpflege-gruene-lunge-ostseite-2
LOCATION:Fischerheim in Vöhringen\, Illerstr. 28a\, Vöhringen\, 89269\, Deutschland
CATEGORIES:Gewässerpflege
END:VEVENT
BEGIN:VEVENT
DTSTART;TZID=Europe/Paris:20250222T080000
DTEND;TZID=Europe/Paris:20250222T170000
DTSTAMP:20260422T114856
CREATED:20250122T135101Z
LAST-MODIFIED:20250209T184330Z
UID:840-1740211200-1740243600@www.fischereigemeinschaft-voehringen.de
SUMMARY:Gewässerpflege Waldbaggersee
DESCRIPTION:Ansprechpartner und Anmeldungen an:\nLukas Holitschke 0157 51345875
URL:https://www.fischereigemeinschaft-voehringen.de/event/gewaesserpflege-waldbaggersee-6
CATEGORIES:Gewässerpflege
END:VEVENT
END:VCALENDAR