BEGIN:VCALENDAR
VERSION:2.0
PRODID:-//Fischereigemeinschaft Vöhringen e.V. - ECPv6.15.20//NONSGML v1.0//EN
CALSCALE:GREGORIAN
METHOD:PUBLISH
X-WR-CALNAME:Fischereigemeinschaft Vöhringen e.V.
X-ORIGINAL-URL:https://www.fischereigemeinschaft-voehringen.de
X-WR-CALDESC:Veranstaltungen für Fischereigemeinschaft Vöhringen e.V.
REFRESH-INTERVAL;VALUE=DURATION:PT1H
X-Robots-Tag:noindex
X-PUBLISHED-TTL:PT1H
BEGIN:VTIMEZONE
TZID:Europe/Paris
BEGIN:DAYLIGHT
TZOFFSETFROM:+0100
TZOFFSETTO:+0200
TZNAME:CEST
DTSTART:20230326T010000
END:DAYLIGHT
BEGIN:STANDARD
TZOFFSETFROM:+0200
TZOFFSETTO:+0100
TZNAME:CET
DTSTART:20231029T010000
END:STANDARD
BEGIN:DAYLIGHT
TZOFFSETFROM:+0100
TZOFFSETTO:+0200
TZNAME:CEST
DTSTART:20240331T010000
END:DAYLIGHT
BEGIN:STANDARD
TZOFFSETFROM:+0200
TZOFFSETTO:+0100
TZNAME:CET
DTSTART:20241027T010000
END:STANDARD
BEGIN:DAYLIGHT
TZOFFSETFROM:+0100
TZOFFSETTO:+0200
TZNAME:CEST
DTSTART:20250330T010000
END:DAYLIGHT
BEGIN:STANDARD
TZOFFSETFROM:+0200
TZOFFSETTO:+0100
TZNAME:CET
DTSTART:20251026T010000
END:STANDARD
END:VTIMEZONE
BEGIN:VEVENT
DTSTART;TZID=Europe/Paris:20240203T080000
DTEND;TZID=Europe/Paris:20240203T130000
DTSTAMP:20260423T062427
CREATED:20240117T160028Z
LAST-MODIFIED:20240131T115709Z
UID:741-1706947200-1706965200@www.fischereigemeinschaft-voehringen.de
SUMMARY:Gewässerpflege Kellerbau Nordseite Gesamt
DESCRIPTION:Bitte bei unserem Gewässerwart Dieter Weis melden: +49 176 57684898
URL:https://www.fischereigemeinschaft-voehringen.de/event/gewaesserpflege-kellerbau-nordseite-gesamt
LOCATION:Fischerheim in Vöhringen\, Illerstr. 28a\, Vöhringen\, 89269\, Deutschland
END:VEVENT
BEGIN:VEVENT
DTSTART;TZID=Europe/Paris:20240210T080000
DTEND;TZID=Europe/Paris:20240210T130000
DTSTAMP:20260423T062427
CREATED:20240117T160059Z
LAST-MODIFIED:20240131T115707Z
UID:743-1707552000-1707570000@www.fischereigemeinschaft-voehringen.de
SUMMARY:Gewässerpflege Grüne Lunge Ostseite
DESCRIPTION:Bitte bei unserem Gewässerwart Jürgen Schöllhorn melden: +49160 96 63 39 13
URL:https://www.fischereigemeinschaft-voehringen.de/event/gewaesserpflege-gruene-lunge-ostseite
LOCATION:Fischerheim in Vöhringen\, Illerstr. 28a\, Vöhringen\, 89269\, Deutschland
END:VEVENT
BEGIN:VEVENT
DTSTART;TZID=Europe/Paris:20240217T080000
DTEND;TZID=Europe/Paris:20240217T120000
DTSTAMP:20260423T062427
CREATED:20240131T115907Z
LAST-MODIFIED:20240131T115907Z
UID:764-1708156800-1708171200@www.fischereigemeinschaft-voehringen.de
SUMMARY:Gewässerpflege Waldbaggersee
DESCRIPTION:Bitte bei unserem Gewässerwart Jürgen Schöllhorn melden: +49160 96 63 39 13
URL:https://www.fischereigemeinschaft-voehringen.de/event/gewaesserpflege-waldbaggersee-5
LOCATION:Fischerheim in Vöhringen\, Illerstr. 28a\, Vöhringen\, 89269\, Deutschland
END:VEVENT
BEGIN:VEVENT
DTSTART;VALUE=DATE:20240219
DTEND;VALUE=DATE:20240308
DTSTAMP:20260423T062427
CREATED:20240127T095756Z
LAST-MODIFIED:20240127T095756Z
UID:754-1708300800-1709855999@www.fischereigemeinschaft-voehringen.de
SUMMARY:Fischerheim geschlossen
DESCRIPTION:Aufrgund Renovierungsarbeiten ist unsere Verinsheim geschlossen. \nAb dem 09.03.2024 ist wieder wie gewohnt geöffnet
URL:https://www.fischereigemeinschaft-voehringen.de/event/fischerheim-geschlossen
LOCATION:Fischerheim in Vöhringen\, Illerstr. 28a\, Vöhringen\, 89269\, Deutschland
CATEGORIES:Verein
END:VEVENT
END:VCALENDAR