BEGIN:VCALENDAR
VERSION:2.0
PRODID:-//Fischereigemeinschaft Vöhringen e.V. - ECPv6.15.20//NONSGML v1.0//EN
CALSCALE:GREGORIAN
METHOD:PUBLISH
X-ORIGINAL-URL:https://www.fischereigemeinschaft-voehringen.de
X-WR-CALDESC:Veranstaltungen für Fischereigemeinschaft Vöhringen e.V.
REFRESH-INTERVAL;VALUE=DURATION:PT1H
X-Robots-Tag:noindex
X-PUBLISHED-TTL:PT1H
BEGIN:VTIMEZONE
TZID:Europe/Paris
BEGIN:DAYLIGHT
TZOFFSETFROM:+0100
TZOFFSETTO:+0200
TZNAME:CEST
DTSTART:20220327T010000
END:DAYLIGHT
BEGIN:STANDARD
TZOFFSETFROM:+0200
TZOFFSETTO:+0100
TZNAME:CET
DTSTART:20221030T010000
END:STANDARD
BEGIN:DAYLIGHT
TZOFFSETFROM:+0100
TZOFFSETTO:+0200
TZNAME:CEST
DTSTART:20230326T010000
END:DAYLIGHT
BEGIN:STANDARD
TZOFFSETFROM:+0200
TZOFFSETTO:+0100
TZNAME:CET
DTSTART:20231029T010000
END:STANDARD
BEGIN:DAYLIGHT
TZOFFSETFROM:+0100
TZOFFSETTO:+0200
TZNAME:CEST
DTSTART:20240331T010000
END:DAYLIGHT
BEGIN:STANDARD
TZOFFSETFROM:+0200
TZOFFSETTO:+0100
TZNAME:CET
DTSTART:20241027T010000
END:STANDARD
END:VTIMEZONE
BEGIN:VEVENT
DTSTART;TZID=Europe/Paris:20230401T080000
DTEND;TZID=Europe/Paris:20230401T120000
DTSTAMP:20260423T213554
CREATED:20230119T085743Z
LAST-MODIFIED:20230314T181658Z
UID:644-1680336000-1680350400@www.fischereigemeinschaft-voehringen.de
SUMMARY:Rund ums Fischerheim
DESCRIPTION:
URL:https://www.fischereigemeinschaft-voehringen.de/event/rund-ums-fischerheim-3
LOCATION:Fischerheim in Vöhringen\, Illerstr. 28a\, Vöhringen\, 89269\, Deutschland
END:VEVENT
BEGIN:VEVENT
DTSTART;TZID=Europe/Paris:20230422T080000
DTEND;TZID=Europe/Paris:20230422T150000
DTSTAMP:20260423T213554
CREATED:20230119T085720Z
LAST-MODIFIED:20230421T142228Z
UID:642-1682150400-1682175600@www.fischereigemeinschaft-voehringen.de
SUMMARY:Gewässerpflege Tiefenbach
DESCRIPTION:
URL:https://www.fischereigemeinschaft-voehringen.de/event/gewaesserpflege-tiefenbach
LOCATION:Fischerheim in Vöhringen\, Illerstr. 28a\, Vöhringen\, 89269\, Deutschland
END:VEVENT
END:VCALENDAR