BEGIN:VCALENDAR
VERSION:2.0
PRODID:-//Fischereigemeinschaft Vöhringen e.V. - ECPv6.15.20//NONSGML v1.0//EN
CALSCALE:GREGORIAN
METHOD:PUBLISH
X-ORIGINAL-URL:https://www.fischereigemeinschaft-voehringen.de
X-WR-CALDESC:Veranstaltungen für Fischereigemeinschaft Vöhringen e.V.
REFRESH-INTERVAL;VALUE=DURATION:PT1H
X-Robots-Tag:noindex
X-PUBLISHED-TTL:PT1H
BEGIN:VTIMEZONE
TZID:Europe/Paris
BEGIN:DAYLIGHT
TZOFFSETFROM:+0100
TZOFFSETTO:+0200
TZNAME:CEST
DTSTART:20210328T010000
END:DAYLIGHT
BEGIN:STANDARD
TZOFFSETFROM:+0200
TZOFFSETTO:+0100
TZNAME:CET
DTSTART:20211031T010000
END:STANDARD
BEGIN:DAYLIGHT
TZOFFSETFROM:+0100
TZOFFSETTO:+0200
TZNAME:CEST
DTSTART:20220327T010000
END:DAYLIGHT
BEGIN:STANDARD
TZOFFSETFROM:+0200
TZOFFSETTO:+0100
TZNAME:CET
DTSTART:20221030T010000
END:STANDARD
BEGIN:DAYLIGHT
TZOFFSETFROM:+0100
TZOFFSETTO:+0200
TZNAME:CEST
DTSTART:20230326T010000
END:DAYLIGHT
BEGIN:STANDARD
TZOFFSETFROM:+0200
TZOFFSETTO:+0100
TZNAME:CET
DTSTART:20231029T010000
END:STANDARD
END:VTIMEZONE
BEGIN:VEVENT
DTSTART;TZID=Europe/Paris:20221202T170000
DTEND;TZID=Europe/Paris:20221204T210000
DTSTAMP:20260424T040452
CREATED:20221201T162249Z
LAST-MODIFIED:20221201T162249Z
UID:629-1670000400-1670187600@www.fischereigemeinschaft-voehringen.de
SUMMARY:Adventsmarkt Vöhringen
DESCRIPTION:Der Vöhringer Adventsmarkt öffnet traditionell am zweiten Adventwochenende\, vom 02. bis 04. Dezember 2022\, freitags von 17:00 bis 21:00 Uhr\, samstags von 16:00 bis 21:00 Uhr\, und sonntags von 15:00 bis 20:00 Uhr auf dem Hettstedter Platz in Vöhringen.
URL:https://www.fischereigemeinschaft-voehringen.de/event/adventsmarkt-voehringen
LOCATION:Stadt Vöhringen\, Hettstetterplat\, Vöhringen\, Bayern\, 89269\, Deutschland
END:VEVENT
BEGIN:VEVENT
DTSTART;TZID=Europe/Paris:20221210T080000
DTEND;TZID=Europe/Paris:20221210T110000
DTSTAMP:20260424T040452
CREATED:20221201T160405Z
LAST-MODIFIED:20221201T160405Z
UID:621-1670659200-1670670000@www.fischereigemeinschaft-voehringen.de
SUMMARY:Hegefischen auf den Hecht in der Iller
DESCRIPTION:Nur für Mitglieder der Fischereigemeinschaft! \nZum Zwecke der Hege kann jedes Vereinsmitglied im genannten Zeitraum den Fischfang auf den Hecht ausüben.  \nDie Erlaubnisscheine werden direkt vor Ort ausgestellt. \nDa sich das Fischen ausschließlich auf den Hecht erstreckt\, bitte dafür entsprechende Ausrüstung gemäß unserer Satzung verwenden. (Köder >12cm) Beifänge sollten soweit möglich verhindert werden\, andere Fischarten dürfen nicht entnommen werden. \nMit vielen Grüßen und Petri Heil\, \n1. Vorsitzender
URL:https://www.fischereigemeinschaft-voehringen.de/event/hegefischen-auf-den-hecht-in-der-iller
LOCATION:Parkplatz Illerbrücke Vöhringen/Illerrieden\, Vöhringen
END:VEVENT
BEGIN:VEVENT
DTSTART;VALUE=DATE:20221231
DTEND;VALUE=DATE:20230101
DTSTAMP:20260424T040452
CREATED:20221201T161037Z
LAST-MODIFIED:20221201T161037Z
UID:626-1672444800-1672531199@www.fischereigemeinschaft-voehringen.de
SUMMARY:Abgabe der Fangbücher - Abschluss
DESCRIPTION:Wie in den vergangenen Jahren möchten wir darauf hinweisen\, die Fangbücher bis spätestens Jahresende\, 31.12.2022 abzugeben.  \nDies ist jederzeit am Briefkasten des Fischerheims in Vöhringen oder bei unserem\nSchriftführer möglich. Gerne natürlich auch per Postversand. \nBitte aber beachten\, dass nach der Abgabe des Fangbuchs ein Fischen nicht mehr möglich ist. Bei Verwendung digitaler Fangbücher ist eine Abgabe NICHT erforderlich.\nHinweis: Die Abgabe des Fangbuches ist völlig ausreichend. Fangblätter\, Auswertungen oder Erlaubnisscheine werden NICHT benötigt.
URL:https://www.fischereigemeinschaft-voehringen.de/event/abgabe-der-fangbuecher-abschluss
LOCATION:Fischerheim in Vöhringen\, Illerstr. 28a\, Vöhringen\, 89269\, Deutschland
END:VEVENT
END:VCALENDAR