BEGIN:VCALENDAR
VERSION:2.0
PRODID:-//Fischereigemeinschaft Vöhringen e.V. - ECPv6.15.20//NONSGML v1.0//EN
CALSCALE:GREGORIAN
METHOD:PUBLISH
X-WR-CALNAME:Fischereigemeinschaft Vöhringen e.V.
X-ORIGINAL-URL:https://www.fischereigemeinschaft-voehringen.de
X-WR-CALDESC:Veranstaltungen für Fischereigemeinschaft Vöhringen e.V.
REFRESH-INTERVAL;VALUE=DURATION:PT1H
X-Robots-Tag:noindex
X-PUBLISHED-TTL:PT1H
BEGIN:VTIMEZONE
TZID:Europe/Paris
BEGIN:DAYLIGHT
TZOFFSETFROM:+0100
TZOFFSETTO:+0200
TZNAME:CEST
DTSTART:20210328T010000
END:DAYLIGHT
BEGIN:STANDARD
TZOFFSETFROM:+0200
TZOFFSETTO:+0100
TZNAME:CET
DTSTART:20211031T010000
END:STANDARD
BEGIN:DAYLIGHT
TZOFFSETFROM:+0100
TZOFFSETTO:+0200
TZNAME:CEST
DTSTART:20220327T010000
END:DAYLIGHT
BEGIN:STANDARD
TZOFFSETFROM:+0200
TZOFFSETTO:+0100
TZNAME:CET
DTSTART:20221030T010000
END:STANDARD
BEGIN:DAYLIGHT
TZOFFSETFROM:+0100
TZOFFSETTO:+0200
TZNAME:CEST
DTSTART:20230326T010000
END:DAYLIGHT
BEGIN:STANDARD
TZOFFSETFROM:+0200
TZOFFSETTO:+0100
TZNAME:CET
DTSTART:20231029T010000
END:STANDARD
END:VTIMEZONE
BEGIN:VEVENT
DTSTART;TZID=Europe/Paris:20220910T080000
DTEND;TZID=Europe/Paris:20220910T120000
DTSTAMP:20260424T080121
CREATED:20220124T171438Z
LAST-MODIFIED:20220124T172440Z
UID:467-1662796800-1662811200@www.fischereigemeinschaft-voehringen.de
SUMMARY:Rund ums Fischerheim: Teich u. Pflanzen
DESCRIPTION:
URL:https://www.fischereigemeinschaft-voehringen.de/event/rund-ums-fischerheim-teich-u-pflanzen
LOCATION:Fischerheim in Vöhringen\, Illerstr. 28a\, Vöhringen\, 89269\, Deutschland
CATEGORIES:Arbeitseinsatz,Gewässerpflege
END:VEVENT
BEGIN:VEVENT
DTSTART;TZID=Europe/Paris:20220917T080000
DTEND;TZID=Europe/Paris:20220917T120000
DTSTAMP:20260424T080121
CREATED:20220124T171606Z
LAST-MODIFIED:20220916T092212Z
UID:469-1663401600-1663416000@www.fischereigemeinschaft-voehringen.de
SUMMARY:Rund ums Fischerheim
DESCRIPTION:
URL:https://www.fischereigemeinschaft-voehringen.de/event/rund-ums-fischerheim
LOCATION:Fischerheim in Vöhringen\, Illerstr. 28a\, Vöhringen\, 89269\, Deutschland
CATEGORIES:Arbeitseinsatz
END:VEVENT
END:VCALENDAR