BEGIN:VCALENDAR
VERSION:2.0
PRODID:-//Fischereigemeinschaft Vöhringen e.V. - ECPv6.15.20//NONSGML v1.0//EN
CALSCALE:GREGORIAN
METHOD:PUBLISH
X-ORIGINAL-URL:https://www.fischereigemeinschaft-voehringen.de
X-WR-CALDESC:Veranstaltungen für Fischereigemeinschaft Vöhringen e.V.
REFRESH-INTERVAL;VALUE=DURATION:PT1H
X-Robots-Tag:noindex
X-PUBLISHED-TTL:PT1H
BEGIN:VTIMEZONE
TZID:Europe/Paris
BEGIN:DAYLIGHT
TZOFFSETFROM:+0100
TZOFFSETTO:+0200
TZNAME:CEST
DTSTART:20210328T010000
END:DAYLIGHT
BEGIN:STANDARD
TZOFFSETFROM:+0200
TZOFFSETTO:+0100
TZNAME:CET
DTSTART:20211031T010000
END:STANDARD
BEGIN:DAYLIGHT
TZOFFSETFROM:+0100
TZOFFSETTO:+0200
TZNAME:CEST
DTSTART:20220327T010000
END:DAYLIGHT
BEGIN:STANDARD
TZOFFSETFROM:+0200
TZOFFSETTO:+0100
TZNAME:CET
DTSTART:20221030T010000
END:STANDARD
BEGIN:DAYLIGHT
TZOFFSETFROM:+0100
TZOFFSETTO:+0200
TZNAME:CEST
DTSTART:20230326T010000
END:DAYLIGHT
BEGIN:STANDARD
TZOFFSETFROM:+0200
TZOFFSETTO:+0100
TZNAME:CET
DTSTART:20231029T010000
END:STANDARD
END:VTIMEZONE
BEGIN:VEVENT
DTSTART;VALUE=DATE:20220827
DTEND;VALUE=DATE:20220828
DTSTAMP:20260424T092132
CREATED:20220124T171310Z
LAST-MODIFIED:20220124T171310Z
UID:463-1661558400-1661644799@www.fischereigemeinschaft-voehringen.de
SUMMARY:Königsfischen
DESCRIPTION:
URL:https://www.fischereigemeinschaft-voehringen.de/event/koenigsfischen
LOCATION:Fischerheim in Vöhringen\, Illerstr. 28a\, Vöhringen\, 89269\, Deutschland
CATEGORIES:Veranstaltung
END:VEVENT
END:VCALENDAR